Workbook

Sheet Титул
A12: Основные показатели
A14: деятельности библиотек
A15: ____________________ ЦБС
A17: у 2016 году

Sheet 1
A1: Таблица № 1
A2: №№ п/п | B2: Тип и название библиотеки | C2: Количе-ство населения | D2: % охвата библиотечного обслуживания | F2: Число библиотек | G2: Реорганизация библиотечной сети | L2: Число б-к, объединенных в ЦБС | M2: Число б-к, не входящих в ЦБС | N2: Внестационарные формы обслуж. | Q2: Ко-во договоров о сотрудгичестве
D5: Б-ми всех систем и ведомств | E5: Публичними б-ми МК ДНР | G5: открытие | H5: закрытие | I5: объединение | J5: присоединение б-к других ведомств | K5: децентрали зация | N5: пункты библ обслуживания | O5: передвижные чит. залы | P5: книгоноши
B10: Городские, поселковые б-ки для взрослых
A11: 1 | B11: Центральна городская б-ка
A12: 2 | B12: Библиотека-филиал № 1
A13: 3 | B13: Библиотека-филиал № 2
B14: и т.д.
A16: Всего по городским б-ках для взрослых | F16: =SUM(F11:F15) -> 0 | G16: =SUM(G11:G15) -> 0 | H16: =SUM(H11:H15) -> 0 | I16: =SUM(I11:I15) -> 0 | J16: =SUM(J11:J15) -> 0 | K16: =SUM(K11:K15) -> 0 | L16: =SUM(L11:L15) -> 0 | M16: =SUM(M11:M15) -> 0 | ... Q16: =SUM(Q11:Q15) -> 0
B17: Районная библиотека
B18: Библиотеки для детей
A19: 1 | B19: Центральная б-ка для детей
A20: 2 | B20: Библиотека-филиал № 4 для детей
A21: 3 | B21: Библиотека-филиал № 5 для детей
B22: и т.д.
A24: Всего по б-кам для детей | F24: =SUM(F18:F23) -> 0 | G24: =SUM(G18:G23) -> 0 | H24: =SUM(H18:H23) -> 0 | I24: =SUM(I18:I23) -> 0 | J24: =SUM(J18:J23) -> 0 | K24: =SUM(K18:K23) -> 0 | L24: =SUM(L18:L23) -> 0 | M24: =SUM(M18:M23) -> 0 | ... Q24: =SUM(Q18:Q23) -> 0
B25: Библиотека для юношества
B26: Сельские библиотеки
A27: 1 | B27: Название сельской б-ки №1
A28: 2 | B28: Название сельской б-ки №2
B29: и т.д.
A31: Всего по сельським библиотекам | F31: =SUM(F26:F30) -> 0 | G31: =SUM(G26:G30) -> 0 | H31: =SUM(H26:H30) -> 0 | I31: =SUM(I26:I30) -> 0 | J31: =SUM(J26:J30) -> 0 | K31: =SUM(K26:K30) -> 0 | L31: =SUM(L26:L30) -> 0 | M31: =SUM(M26:M30) -> 0 | ... Q31: =SUM(Q26:Q30) -> 0
A32: в т.ч. по сельським б-кам, находящихся в сельськой местности
A33: Всего по библиотекам города (района) | F33: =F16+F17+F24+F25+F31 -> 0 | G33: =G16+G17+G24+G25+G31 -> 0 | H33: =H16+H17+H24+H25+H31 -> 0 | I33: =I16+I17+I24+I25+I31 -> 0 | J33: =J16+J17+J24+J25+J31 -> 0 | K33: =K16+K17+K24+K25+K31 -> 0 | L33: =L16+L17+L24+L25+L31 -> 0 | M33: =M16+M17+M24+M25+M31 -> 0 | ... Q33: =Q16+Q17+Q24+Q25+Q31 -> 0

Sheet 2
A1: Таблица № 2
A2: №№ п/п | B2: Тип и название библиотеки | C2: Общая площадь помещений (кв.м.) | D2: Материально-техническая база библиотек
D3: в т.ч. | F3: Читальные залы | H3: Характеристика помещений
D4: для хранения фондов | E4: для обслуж. пользователей | F4: число чит. залов | G4: число посадочных мест для польз. | H4: имущественная | J4: размещение | M4: техническая
H5: на праве операт.управл | I5: арендованое | J5: в отдельных зданиях | K5: в других помещениях | L5: имеют доступ для инвалидов | M5: отличное | N5: удовлетворительное | O5: требует кап. ремонта | P5: аварийное | Q5: до 50 м2
B10: Городские, поселковые б-ки для взрослых
A11: 1 | B11: Центральна городская б-ка
A12: 2 | B12: Библиотека-филиал № 1
A13: 3 | B13: Библиотека-филиал № 2
B14: и т.д.
A17: Всего по городским б-ках для взрослых | C17: =SUM(C11:C16) -> 0 | D17: =SUM(D11:D16) -> 0 | E17: =SUM(E11:E16) -> 0 | F17: =SUM(F11:F16) -> 0 | G17: =SUM(G11:G16) -> 0 | H17: =SUM(H11:H16) -> 0 | I17: =SUM(I11:I16) -> 0 | J17: =SUM(J11:J16) -> 0 | ... Q17: =SUM(Q11:Q16) -> 0
B18: Районная библиотека
B19: Библиотеки для детей
A20: 1 | B20: Центральная б-ка для детей
A21: 2 | B21: Библ-филиал № 4 для детей
A22: 3 | B22: Библ-филиал № 5 для детей
B23: и т.д.
A25: Всего по б-кам для детей | C25: =SUM(C20:C24) -> 0 | D25: =SUM(D20:D24) -> 0 | E25: =SUM(E20:E24) -> 0 | F25: =SUM(F20:F24) -> 0 | G25: =SUM(G20:G24) -> 0 | H25: =SUM(H20:H24) -> 0 | I25: =SUM(I20:I24) -> 0 | J25: =SUM(J20:J24) -> 0 | ... Q25: =SUM(Q20:Q24) -> 0
B26: Библиотека для юношества
B27: Сельские библиотеки
A28: 1 | B28: Название сельской б-ки №1
A29: 2 | B29: Название сельской б-ки №2
B30: и т.д.
A32: Всего по сельським библиотекам | C32: =SUM(C28:C31) -> 0 | D32: =SUM(D28:D31) -> 0 | E32: =SUM(E28:E31) -> 0 | F32: =SUM(F28:F31) -> 0 | G32: =SUM(G28:G31) -> 0 | H32: =SUM(H28:H31) -> 0 | I32: =SUM(I28:I31) -> 0 | J32: =SUM(J28:J31) -> 0 | ... Q32: =SUM(Q28:Q31) -> 0
A33: в т.ч. по сельським б-кам, находящихся в сельськой местности
A34: Всего по библиотекам города (района) | C34: =SUM(C17,C18,C25,C26,C32) -> 0 | D34: =SUM(D17,D18,D25,D32,D26) -> 0 | E34: =SUM(E17,E18,E25,E32,E26) -> 0 | F34: =SUM(F17,F18,F25,F32,F26) -> 0 | G34: =SUM(G17,G18,G25,G32,G26) -> 0 | H34: =SUM(H17,H18,H25,H32,H26) -> 0 | I34: =SUM(I17,I18,I25,I32,I26) -> 0 | J34: =SUM(J17,J18,J25,J32,J26) -> 0 | K34: =SUM(K17,K18,K25,K32,K26) -> 0 | ... Q34: =SUM(Q17,Q18,Q25,Q32,Q26) -> 0

Sheet 3
A1: Таблица № 3
A2: №№ п/п | B2: Тип и название библиотеки | C2: 2. Материально-техническая база библиотек
C3: Число б-к, получившие или расширившие помещения | G3: Отремонтировано | J3: Число б-к, которые | L3: Число б-к, которые имеют технические средства
C4: полученных | D4: площадь полученных помещений | E4: расширенных | F4: площадь расширенных помещений | G4: всего б-к | H4: капитальный ремонт | I4: текущий ремонт | J4: не отапливаются | K4: не освещаются | L4: оргтехнику | N4: мультимедийное оборудование | O4: средства связи | R4: доступ к Интернету | S4: транспортные средства
L5: компьютеры | M5: копировально-множительная техника | O5: телефоны | P5: факсы | Q5: электронная почта
B8: Городские, поселковые б-ки для взрослых
A9: 1 | B9: Центральна городская б-ка
A10: 2 | B10: Библиотека-филиал № 1
A11: 3 | B11: Библиотека-филиал № 2
B12: и т.д.
A13: Всего по городским б-ках для взрослых | C13: =SUM(C9:C12) -> 0 | D13: =SUM(D9:D12) -> 0 | E13: =SUM(E9:E12) -> 0 | F13: =SUM(F9:F12) -> 0 | G13: =SUM(G9:G12) -> 0 | H13: =SUM(H9:H12) -> 0 | I13: =SUM(I9:I12) -> 0 | J13: =SUM(J9:J12) -> 0 | ... S13: =SUM(S9:S12) -> 0
B14: Районная библиотека
B15: Библиотеки для детей
A16: 1 | B16: Центральная б-ка для детей
A17: 2 | B17: Библиотека-филиал № 4 для детей
A18: 3 | B18: Библиотека-филиал № 5 для детей
B19: и т.д.
A21: Всего по б-кам для детей | C21: =SUM(C16:C19) -> 0 | D21: =SUM(D16:D19) -> 0 | E21: =SUM(E16:E19) -> 0 | F21: =SUM(F16:F19) -> 0 | G21: =SUM(G16:G19) -> 0 | H21: =SUM(H16:H19) -> 0 | I21: =SUM(I16:I19) -> 0 | J21: =SUM(J16:J19) -> 0 | ... S21: =SUM(S16:S19) -> 0
B22: Библиотека для юношества
B23: Сельские библиотеки
A24: 1 | B24: Название сельской б-ки №1
A25: 2 | B25: Название сельской б-ки №2
B26: и т.д.
A28: Всего по сельським библиотекам | C28: =SUM(C24:C26) -> 0 | D28: =SUM(D24:D26) -> 0 | E28: =SUM(E24:E26) -> 0 | F28: =SUM(F24:F26) -> 0 | G28: =SUM(G24:G26) -> 0 | H28: =SUM(H24:H26) -> 0 | I28: =SUM(I24:I26) -> 0 | J28: =SUM(J24:J26) -> 0 | ... S28: =SUM(S24:S26) -> 0
A29: в т.ч. по сельським б-кам, находящихся в сельськой местности
A30: Всего по библиотекам города (района) | C30: =SUM(C13:C14,C21,C22,C28) -> 0 | D30: =SUM(D13:D14,D21,D22,D28) -> 0 | E30: =SUM(E13:E14,E21,E22,E28) -> 0 | F30: =SUM(F13:F14,F21,F22,F28) -> 0 | G30: =SUM(G13:G14,G21,G22,G28) -> 0 | H30: =SUM(H13:H14,H21,H22,H28) -> 0 | I30: =SUM(I13:I14,I21,I22,I28) -> 0 | J30: =SUM(J13:J14,J21,J22,J28) -> 0 | ... S30: =SUM(S13:S14,S21,S22,S28) -> 0

Sheet 4
A1: Таблица № 4
A2: № п/п | B2: Тип и название библиотеки | C2: Число технических средств в библиотеках
C3: оргтехника | H3: мультимедийное оборудование | O3: средства связи
C4: компьютеры | D4: принтеры | E4: сканеры | F4: ксероксы | G4: многофункциональые устройства | H4: телевизоры | I4: мультимедийные проекторы | J4: видео-, аудио- магнитофоны | K4: DVD-проигрыватели, проигрыватели | L4: музыкальные центри | M4: видеокамеры | N4: фотоаппараты | O4: число телефонных номеров | P4: число факсов | Q4: число электронных адресов
B6: Городские, поселковые б-ки для взрослых
A7: 1 | B7: Центральна городская б-ка
A8: 2 | B8: Библиотека-филиал № 1
A9: 3 | B9: Библиотека-филиал № 2
B10: и т.д.
A12: Всего по городским б-кам для взрослых | C12: =SUM(C7:C11) -> 0 | D12: =SUM(D7:D11) -> 0 | E12: =SUM(E7:E11) -> 0 | F12: =SUM(F7:F11) -> 0 | G12: =SUM(G7:G11) -> 0 | H12: =SUM(H7:H11) -> 0 | I12: =SUM(I7:I11) -> 0 | J12: =SUM(J7:J11) -> 0 | ... Q12: =SUM(Q7:Q11) -> 0
B13: Районная библиотека
B14: Библиотеки для детей
A15: 1 | B15: Центральная б-ка для детей
A16: 2 | B16: Библиотека-филиал № 4 для детей
A17: 3 | B17: Библиотека-филиал № 5 для детей
B18: и т.д.
A20: Всього по б-кам для детей | C20: =SUM(C15:C19) -> 0 | D20: =SUM(D15:D19) -> 0 | E20: =SUM(E15:E19) -> 0 | F20: =SUM(F15:F19) -> 0 | G20: =SUM(G15:G19) -> 0 | H20: =SUM(H15:H19) -> 0 | I20: =SUM(I15:I19) -> 0 | J20: =SUM(J15:J19) -> 0 | ... Q20: =SUM(Q15:Q19) -> 0
B21: Библиотека для юношества
B22: Сельские библиотеки
A23: 1 | B23: Название сельской б-ки №1
A24: 2 | B24: Название сельской б-ки №2
B25: и т.д.
A27: Всего по сельським библиотекам | C27: =SUM(C23:C25) -> 0 | D27: =SUM(D23:D25) -> 0 | E27: =SUM(E23:E25) -> 0 | F27: =SUM(F23:F25) -> 0 | G27: =SUM(G23:G25) -> 0 | H27: =SUM(H23:H25) -> 0 | I27: =SUM(I23:I25) -> 0 | J27: =SUM(J23:J25) -> 0 | ... Q27: =SUM(Q23:Q25) -> 0
A28: в т.ч. по сельським б-кам, находящихся в сельськой местности
A29: Всего по библиотекам города (района) | C29: =SUM(C12,C13,C20,C21,C27) -> 0 | D29: =SUM(D12,D13,D20,D21,D27) -> 0 | E29: =SUM(E12,E13,E20,E21,E27) -> 0 | F29: =SUM(F12,F13,F20,F21,F27) -> 0 | G29: =SUM(G12,G13,G20,G21,G27) -> 0 | H29: =SUM(H12,H13,H20,H21,H27) -> 0 | I29: =SUM(I12,I13,I20,I21,I27) -> 0 | J29: =SUM(J12,J13,J20,J21,J27) -> 0 | ... Q29: =SUM(Q12,Q13,Q20,Q21,Q27) -> 0

Sheet 5
A1: Таблица № 5
A2: № п/п | B2: Тип и названое библиотеки | C2: Интернет-технологии
C3: Провайдер Интернет-услуг | D3: Тип подключения Интернету | E3: Скорость доступа к Интернету | F3: Месяцная оплата услуг провайдера (руб.) | G3: Наличие зоны Wi-Fi | H3: Число компьютеров, имеющих доступ к Интернету | I3: Число компьютеров для пользователей | J3: Число Интернет-центров | K3: Число АРМ для библ. работников | L3: Наличие собственного веб-сайта | M3: Число собственных веб-страниц
B5: Городские, поселковые б-ки для взрослых
A6: 1 | B6: Центральна городская б-ка
A7: 2 | B7: Библиотека-филиал № 1
A8: 3 | B8: Библиотека-филиал № 2
B9: и т.д.
A11: Всего по городским б-ках для взрослых
B12: Районная библиотека
B13: Библиотеки для детей
A14: 1 | B14: Центральная б-ка для детей
A15: 2 | B15: Библиотека-филиал № 4 для детей
A16: 3 | B16: Библиотека-филиал № 5 для детей
B17: и т.д.
A19: Всего по б-кам для детей
B20: Библиотека для юношества
B21: Сельские библиотеки
A22: 1 | B22: Название сельской б-ки №1
A23: 2 | B23: Название сельской б-ки №2
B24: и т.д.
A26: Всего по сельським библиотекам
A27: в т.ч. по сельським б-кам, находящихся в сельськой местности
A28: Всего по библиотекам города (района)

Sheet 6
A1: Таблица № 6
A2: № п/п | B2: Тип и название библиотеки | C2: Движение библиотечного фонда (экз.)
C3: Библиотечний фонд на 01.01.2016 г.
C4: Всего | D4: по видам изданий | H4: по содержанию | J4: на языках
D5: книги, брошуры | E5: периодические издания | F5: аудивизуальные издания | G5: электронные | H5: отраслевая | I5: художественнная | J5: русский | K5: украинский | L5: грецеский | M5: иностранный
B8: Городские, поселковые б-ки для взрослых
A9: 1 | B9: Центральна городская б-ка
A10: 2 | B10: Библиотека-филиал № 1
A11: 3 | B11: Библиотека-филиал № 2
B12: и т.д.
A14: Всего по городским б-ках для взрослых | C14: =SUM(C9:C13) -> 0 | D14: =SUM(D9:D13) -> 0 | E14: =SUM(E9:E13) -> 0 | F14: =SUM(F9:F13) -> 0 | G14: =SUM(G9:G13) -> 0 | H14: =SUM(H9:H13) -> 0 | I14: =SUM(I9:I13) -> 0 | J14: =SUM(J9:J13) -> 0 | ... L14: =SUM(L9:L13) -> 0
B15: Районная библиотека
B16: Библиотеки для детей
A17: 1 | B17: Центральная б-ка для детей
A18: 2 | B18: Библ-филиал № 4 для детей
A19: 3 | B19: Библ-филиал № 5 для детей
B20: и т.д.
A22: Всего по б-кам для детей | C22: =SUM(C16:C21) -> 0 | D22: =SUM(D16:D21) -> 0 | E22: =SUM(E16:E21) -> 0 | F22: =SUM(F16:F21) -> 0 | G22: =SUM(G16:G21) -> 0 | H22: =SUM(H16:H21) -> 0 | I22: =SUM(I16:I21) -> 0 | J22: =SUM(J16:J21) -> 0 | ... M22: =SUM(M16:M21) -> 0
B23: Библиотека для юношества
B24: Сельские библиотеки
A25: 1 | B25: Название сельской б-ки №1
A26: 2 | B26: Название сельской б-ки №2
B27: и т.д.
A29: Всего по сельським библиотекам | C29: =SUM(C25:C28) -> 0 | D29: =SUM(D25:D28) -> 0 | E29: =SUM(E25:E28) -> 0 | F29: =SUM(F25:F28) -> 0 | G29: =SUM(G25:G28) -> 0 | H29: =SUM(H25:H28) -> 0 | I29: =SUM(I25:I28) -> 0 | J29: =SUM(J25:J28) -> 0 | ... M29: =SUM(M25:M28) -> 0
A30: в т.ч. по сельським б-кам, находящихся в сельськой местности
A31: Всего по библиотекам города (района) | C31: =SUM(C14,C15,C22,C23,C29) -> 0 | D31: =SUM(D14,D15,D22,D23,D29) -> 0 | E31: =SUM(E14,E15,E22,E23,E29) -> 0 | F31: =SUM(F14,F15,F22,F23,F29) -> 0 | G31: =SUM(G14,G15,G22,G23,G29) -> 0 | H31: =SUM(H14,H15,H22,H23,H29) -> 0 | I31: =SUM(I14,I15,I22,I23,I29) -> 0 | J31: =SUM(J14,J15,J22,J23,J29) -> 0 | ... M31: =SUM(M14,M15,M22,M23,M29) -> 0

Sheet 7
A1: Таблица № 7
A2: № п/п | B2: Тип и название библиотеки | C2: Движение библиотечного фонда (экз.)
C3: Поступило экземпляров за отчетный год
C4: всего | D4: по видам изданий | H4: по содержанию | J4: по языкам
D5: книги, брошуры | E5: периодические издания | F5: аудиовизуальные издания | G5: электронные | H5: отраслевая | I5: художественная | J5: русский | K5: украинский | L5: греческий | M5: иностранный
B8: Городские, поселковые б-ки для взрослых
A9: 1 | B9: Центральна городская б-ка
A10: 2 | B10: Библиотека-филиал № 1
A11: 3 | B11: Библиотека-филиал № 2
B12: и т.д.
A14: Всего по городским б-ках для взрослых | C14: =SUM(C9:C13) -> 0 | D14: =SUM(D9:D13) -> 0 | E14: =SUM(E9:E13) -> 0 | F14: =SUM(F9:F13) -> 0 | G14: =SUM(G9:G13) -> 0 | H14: =SUM(H9:H13) -> 0 | I14: =SUM(I9:I13) -> 0 | J14: =SUM(J9:J13) -> 0 | ... M14: =SUM(M9:M13) -> 0
B15: Районная библиотека
B16: Библиотеки для детей
A17: 1 | B17: Центральная б-ка для детей
A18: 2 | B18: Библ-филиал № 4 для детей
A19: 3 | B19: Библ-филиал № 5 для детей
B20: и т.д.
A21: Всего по б-кам для детей | C21: =SUM(C17:C20) -> 0 | D21: =SUM(D17:D20) -> 0 | E21: =SUM(E17:E20) -> 0 | F21: =SUM(F17:F20) -> 0 | G21: =SUM(G17:G20) -> 0 | H21: =SUM(H17:H20) -> 0 | I21: =SUM(I17:I20) -> 0 | J21: =SUM(J17:J20) -> 0 | ... M21: =SUM(M17:M20) -> 0
B22: Библиотека для юношества
B23: Сельские библиотеки
A24: 1 | B24: Название сельской б-ки №1
A25: 2 | B25: Название сельской б-ки №2
B26: и т.д.
A28: Всего по сельським библиотекам | C28: =SUM(C24:C27) -> 0 | D28: =SUM(D24:D27) -> 0 | E28: =SUM(E24:E27) -> 0 | F28: =SUM(F24:F27) -> 0 | G28: =SUM(G24:G27) -> 0 | H28: =SUM(H24:H27) -> 0 | I28: =SUM(I24:I27) -> 0 | J28: =SUM(J24:J27) -> 0 | ... M28: =SUM(M24:M27) -> 0
A29: в т.ч. по сельським б-кам, находящихся в сельськой местности
A30: Всего по библиотекам города (района) | C30: =SUM(C14,C15,C21,C22,C28) -> 0 | D30: =SUM(D14,D15,D21,D22,D28) -> 0 | E30: =SUM(E14,E15,E21,E22,E28) -> 0 | F30: =SUM(F14,F15,F21,F22,F28) -> 0 | G30: =SUM(G14,G15,G21,G22,G28) -> 0 | H30: =SUM(H14,H15,H21,H22,H28) -> 0 | I30: =SUM(I14,I15,I21,I22,I28) -> 0 | J30: =SUM(J14,J15,J21,J22,J28) -> 0 | ... M30: =SUM(M14,M15,M21,M22,M28) -> 0

Sheet 8
A1: Таблица № 8
A2: № п/п | B2: Тип и название библиотеки | C2: Движение библиотечного фонда (экз.)
C3: Поступило новых книг за отчетный год (по источникам поступления)
C4: новых книг без учета перераспределения | D4: за бюджетные средства | E4: за средства платных услуг | F4: от спонсоров | G4: в дар от пользователей | H4: с обменных фондов респуб. библиотек | I4: другие источники
B6: Городские, поселковые б-ки для взрослых
A7: 1 | B7: Центральна городская б-ка
A8: 2 | B8: Библиотека-филиал № 1
A9: 3 | B9: Библиотека-филиал № 2
B10: и т.д.
A12: Всего по городским б-кам для взрослых | C12: =SUM(C7:C11) -> 0 | D12: =SUM(D7:D11) -> 0 | E12: =SUM(E7:E11) -> 0 | F12: =SUM(F7:F11) -> 0 | G12: =SUM(G7:G11) -> 0 | H12: =SUM(H7:H11) -> 0 | I12: =SUM(I7:I11) -> 0
B13: Районная библиотека
B14: Библиотеки для детей
A15: 1 | B15: Центральная б-ка для детей
A16: 2 | B16: Библ-филиал № 4 для детей
A17: 3 | B17: Библ-филиал № 5 для детей
B18: и т.д.
A20: Всего по б-кам для детей | C20: =SUM(C15:C19) -> 0 | D20: =SUM(D15:D19) -> 0 | E20: =SUM(E15:E19) -> 0 | F20: =SUM(F15:F19) -> 0 | G20: =SUM(G15:G19) -> 0 | H20: =SUM(H15:H19) -> 0 | I20: =SUM(I15:I19) -> 0
B21: Библиотека для юношества
B22: Сельские библиотеки
A23: 1 | B23: Название сельской б-ки №1
A24: 2 | B24: Название сельской б-ки №2
B25: и т.д.
A27: Всего по сельським библиотекам | C27: =SUM(C23:C26) -> 0 | D27: =SUM(D23:D26) -> 0 | E27: =SUM(E23:E26) -> 0 | F27: =SUM(F23:F26) -> 0 | G27: =SUM(G23:G26) -> 0 | H27: =SUM(H23:H26) -> 0 | I27: =SUM(I23:I26) -> 0
A28: в т.ч. по сельським б-кам, находящихся в сельськой местности
A29: Всего по библиотекам города (района) | C29: =SUM(C12,C13,C20,C27,C21) -> 0 | D29: =SUM(D12,D13,D20,D27,D21) -> 0 | E29: =SUM(E12,E13,E20,E27,E21) -> 0 | F29: =SUM(F12,F13,F20,F27,F21) -> 0 | G29: =SUM(G12,G13,G20,G27,G21) -> 0 | H29: =SUM(H12,H13,H20,H27,H21) -> 0 | I29: =SUM(I12,I13,I20,I27,I21) -> 0

Sheet 9
A1: Таблица № 9
A2: № п/п | B2: Тип и название библиотеки | C2: Подписка периодических изданий
C3: всего | E3: за бюджетные средства | H3: за средства от платных услуг | K3: от спонсоров | L3: бесплатно | N3: число названий периодики в б-ках-филиалах | O3: число б-к, не получающих период. издания | P3: переучет библиотечного фонда
C4: назв | D4: комп-лектов | E4: назв | F4: комп-лектов | G4: сумма (руб.) | H4: назв | I4: комп-лектов | J4: сумма (руб.)
B5: Городские, поселковые б-ки для взрослых
A6: 1 | B6: Центральна городская б-ка
A7: 2 | B7: Библиотека-филиал № 1
A8: 3 | B8: Библиотека-филиал № 2
B9: и т.д.
A11: Всего по городским б-кам для дорослих | D11: =SUM(D6:D10) -> 0 | F11: =SUM(F6:F10) -> 0 | G11: =SUM(G6:G10) -> 0 | I11: =SUM(I6:I10) -> 0 | J11: =SUM(J6:J10) -> 0 | K11: =SUM(L6:M10) -> 0 | L11: =SUM(L6:M10) -> 0 | N11: =SUM(N6:N10) -> 0 | O11: =SUM(O6:O10) -> 0 | P11: =SUM(P6:P10) -> 0
B12: Районная библиотека
B13: Библиотеки для детей
A14: 1 | B14: Центральная б-ка для детей
A15: 2 | B15: Библ-филиал № 4 для детей
A16: 3 | B16: Библ-филиал № 5 для детей
B17: и т.д.
A19: Всего по б-кам для детей | D19: =SUM(D14:D18) -> 0 | F19: =SUM(F14:F18) -> 0 | G19: =SUM(G14:G18) -> 0 | I19: =SUM(I14:I18) -> 0 | J19: =SUM(J14:J18) -> 0 | K19: =SUM(I14:I18) -> 0 | L19: =SUM(K14:K18) -> 0 | N19: =SUM(N14:N18) -> 0 | O19: =SUM(O14:O18) -> 0 | P19: =SUM(P14:P18) -> 0
B20: Библиотека для юношества
B21: Сельские библиотеки
A22: 1 | B22: Название сельской б-ки №1
A23: 2 | B23: Название сельской б-ки №2
B24: и т.д.
A26: Всего по сельським библиотекам | D26: =SUM(D22:D25) -> 0 | F26: =SUM(F22:F25) -> 0 | G26: =SUM(G22:G25) -> 0 | I26: =SUM(I22:I25) -> 0 | J26: =SUM(J22:J25) -> 0 | K26: =SUM(K22:K25) -> 0 | L26: =SUM(L22:L25) -> 0 | N26: =SUM(N22:N25) -> 0 | O26: =SUM(O22:O25) -> 0 | P26: =SUM(P22:P25) -> 0
A27: в т.ч. по сельським б-кам, находящихся в сельськой местности
A28: Всего по библиотекам города (района) | D28: =SUM(D11,D12,D19,D20,D26) -> 0 | F28: =SUM(F11,F12,F19,F20,F26) -> 0 | G28: =SUM(G11,G12,G19,G20,G26) -> 0 | I28: =SUM(I11,I12,I19,I20,I26) -> 0 | J28: =SUM(J11,J12,J19,J20,J26) -> 0 | K28: =SUM(K11,K12,K19,K20,K26) -> 0 | L28: =SUM(L11,L12,L19,L20,L26) -> 0 | N28: =SUM(N11,N12,N19,N20,N26) -> 0 | O28: =SUM(O11,O12,O19,O20,O26) -> 0 | P28: =SUM(P11,P12,P19,P20,P26) -> 0

Sheet 10
A1: Таблица № 10
A2: № п/п | B2: Тип и название библиотеки | C2: Движение библиотечного фонда (экз.)
C3: Выбыло экземпляров за отчетный год
C4: всего | D4: в т.ч. документов без учета перераспре-деления | E4: по видам изданий | I4: по содержанию | K4: по языкам
E6: книги, брошюры | F6: периодические издания | G6: аудиовизуальные издания | H6: электронные | I6: отраслевая | J6: художественная | K6: русский | L6: украинский | M6: греческий | N6: иностранный
B8: Городские, поселковые б-ки для взрослых
A9: 1 | B9: Центральна городская б-ка
A10: 2 | B10: Библиотека-филиал № 1
A11: 3 | B11: Библиотека-филиал № 2
B12: и т.д.
A14: Всего погородским б-кам для взрослых | C14: =SUM(C9:C13) -> 0 | D14: =SUM(D9:D13) -> 0 | E14: =SUM(E9:E13) -> 0 | F14: =SUM(F9:F13) -> 0 | G14: =SUM(G9:G13) -> 0 | H14: =SUM(H9:H13) -> 0 | I14: =SUM(I9:I13) -> 0 | J14: =SUM(J9:J13) -> 0 | ... N14: =SUM(N9:N13) -> 0
B15: Районная библиотека
B16: Библиотеки для детей
A17: 1 | B17: Центральная б-ка для детей
A18: 2 | B18: Библ-филиал № 4 для детей
A19: 3 | B19: Библ-филиал № 5 для детей
B20: и т.д.
A22: Всего по б-кам для детей | C22: =SUM(C17:C21) -> 0 | D22: =SUM(D17:D21) -> 0 | E22: =SUM(E17:E21) -> 0 | F22: =SUM(F17:F21) -> 0 | G22: =SUM(G17:G21) -> 0 | H22: =SUM(H17:H21) -> 0 | I22: =SUM(I17:I21) -> 0 | J22: =SUM(J17:J21) -> 0 | ... N22: =SUM(N17:N21) -> 0
B23: Библиотека для юношества
B24: Сельские библиотеки
A25: 1 | B25: Название сельской б-ки №1
A26: 2 | B26: Название сельской б-ки №2
B27: и т.д.
A29: Всего по сельським библиотекам | C29: =SUM(C25:C28) -> 0 | D29: =SUM(D25:D28) -> 0 | E29: =SUM(E25:E28) -> 0 | F29: =SUM(F25:F28) -> 0 | G29: =SUM(G25:G28) -> 0 | H29: =SUM(H25:H28) -> 0 | I29: =SUM(I25:I28) -> 0 | J29: =SUM(J25:J28) -> 0 | ... N29: =SUM(N25:N28) -> 0
A30: в т.ч. по сельським б-кам, находящихся в сельськой местности
A31: Всего по библиотекам города (района) | C31: =SUM(C14,C15,C22,C23,C29) -> 0 | D31: =SUM(D14,D15,D22,D23,D29) -> 0 | E31: =SUM(E14,E15,E22,E23,E29) -> 0 | F31: =SUM(F14,F15,F22,F23,F29) -> 0 | G31: =SUM(G14,G15,G22,G23,G29) -> 0 | H31: =SUM(H14,H15,H22,H23,H29) -> 0 | I31: =SUM(I14,I15,I22,I23,I29) -> 0 | J31: =SUM(J14,J15,J22,J23,J29) -> 0 | ... N31: =SUM(N14,N15,N22,N23,N29) -> 0

Sheet 11
A1: Таблица № 11
A2: № п/п | B2: Тип и название библиотеки | C2: 1. Библиотечный фонд на конец отчетного года (экз.)
C3: всего | D3: по видам | H3: по языкам
D5: книги, брошюры | E5: периодические издания | F5: аудиовизуальные издания | G5: электронные | H5: русский | I5: украинский | J5: греческий | K5: иностранный
B7: Городские, поселковые б-ки для взрослых
A8: 1 | B8: Центральна городская б-ка
A9: 2 | B9: Библиотека-филиал № 1
A10: 3 | B10: Библиотека-филиал № 2
B11: и т.д.
A13: Всего по городским б-кам для взрослых | C13: =SUM(C7:C12) -> 0 | D13: =SUM(D7:D12) -> 0 | E13: =SUM(E7:E12) -> 0 | F13: =SUM(F7:F12) -> 0 | G13: =SUM(G7:G12) -> 0 | H13: =SUM(H7:H12) -> 0 | I13: =SUM(I7:I12) -> 0 | J13: =SUM(J7:J12) -> 0 | K13: =SUM(K7:K12) -> 0
B14: Районная библиотека
B15: Библиотеки для детей
A16: 1 | B16: Центральная б-ка для детей
A17: 2 | B17: Библ-филиал № 4 для детей
A18: 3 | B18: Библ-филиал № 5 для детей
B19: и т.д.
A21: Всего по б-кам для детей | C21: =SUM(C15:C20) -> 0 | D21: =SUM(D15:D20) -> 0 | E21: =SUM(E15:E20) -> 0 | F21: =SUM(F15:F20) -> 0 | G21: =SUM(G15:G20) -> 0 | H21: =SUM(H15:H20) -> 0 | I21: =SUM(I15:I20) -> 0 | J21: =SUM(J15:J20) -> 0 | K21: =SUM(K15:K20) -> 0
B22: Библиотека для юношества
B23: Сельские библиотеки
A24: 1 | B24: Название сельской б-ки №1
A25: 2 | B25: Название сельской б-ки №2
B26: и т.д.
A28: Всего по сельським библиотекам | C28: =SUM(C23:C27) -> 0 | D28: =SUM(D23:D27) -> 0 | E28: =SUM(E23:E27) -> 0 | F28: =SUM(F23:F27) -> 0 | G28: =SUM(G23:G27) -> 0 | H28: =SUM(H23:H27) -> 0 | I28: =SUM(I23:I27) -> 0 | J28: =SUM(J23:J27) -> 0 | K28: =SUM(K23:K27) -> 0
A29: в т.ч. по сельським б-кам, находящихся в сельськой местности
A30: Всего по библиотекам города (района) | C30: =SUM(C13,C14,C21,C22,C28,C29,C29) -> 0 | D30: =SUM(D13,D14,D21,D22,D28) -> 0 | E30: =SUM(E13,E14,E21,E22,E28) -> 0 | F30: =SUM(F13,F14,F21,F22,F28) -> 0 | G30: =SUM(G13,G14,G21,G22,G28) -> 0 | H30: =SUM(H13,H14,H21,H22,H28) -> 0 | I30: =SUM(I13,I14,I21,I22,I28) -> 0 | J30: =SUM(J13,J14,J21,J22,J28) -> 0 | K30: =SUM(K13,K14,K21,K22,K28) -> 0

Sheet 12
A1: Таблица № 12
A2: № п/п | B2: Тип и название библиотеки | C2: всего | D2: 2. Библиотечный фонд на конець отчетного года (экз.)
D3: по содержанию
D4: в т.ч. общественно-политического содержания | F4: в т.ч. естественнонаучной тематики | H4: в т.ч. по технике | J4: в т.ч. гуманитарного содержания | L4: из общего количества
L5: отраслевая | N5: художественная
D6: всего | E6: % | F6: всего | G6: % | H6: всего | I6: % | J6: всего | K6: % | L6: всего | M6: % | N6: всего | O6: %
B7: Городские, поселковые б-ки для взрослых
A8: 1 | B8: Центральна городская б-ка | E8: =D8/C8*100 -> #DIV/0! | G8: =F8/C8*100 -> #DIV/0! | I8: =H8/C8*100 -> #DIV/0! | K8: =J8/C8*100 -> #DIV/0! | M8: =L8/C8*100 -> #DIV/0! | O8: =N8/C8*100 -> #DIV/0!
A9: 2 | B9: Библиотека-филиал № 1 | E9: =D9/C9*100 -> #DIV/0! | G9: =F9/C9*100 -> #DIV/0! | I9: =H9/C9*100 -> #DIV/0! | K9: =J9/C9*100 -> #DIV/0! | M9: =L9/C9*100 -> #DIV/0! | O9: =N9/C9*100 -> #DIV/0!
A10: 3 | B10: Библиотека-филиал № 2 | E10: =D10/C10*100 -> #DIV/0! | G10: =F10/C10*100 -> #DIV/0! | I10: =H10/C10*100 -> #DIV/0! | K10: =J10/C10*100 -> #DIV/0! | M10: =L10/C10*100 -> #DIV/0! | O10: =N10/C10*100 -> #DIV/0!
B11: и т.д. | E11: =D11/C11*100 -> #DIV/0! | G11: =F11/C11*100 -> #DIV/0! | I11: =H11/C11*100 -> #DIV/0! | K11: =J11/C11*100 -> #DIV/0! | M11: =L11/C11*100 -> #DIV/0! | O11: =N11/C11*100 -> #DIV/0!
A13: Всего по городским б-кам для взрослых | C13: =SUM(C8:C12) -> 0 | D13: =SUM(D8:D12) -> 0 | E13: =D13/C13*100 -> #DIV/0! | F13: =SUM(F8:F12) -> 0 | G13: =F13/C13*100 -> #DIV/0! | H13: =SUM(H8:H12) -> 0 | I13: =H13/C13*100 -> #DIV/0! | J13: =SUM(J8:J12) -> 0 | K13: =J13/C13*100 -> #DIV/0! | L13: =SUM(L8:L12) -> 0 | M13: =L13/C13*100 -> #DIV/0! | N13: =SUM(N8:N12) -> 0 | O13: =N13/C13*100 -> #DIV/0!
B14: Районная библиотека | E14: =D14/C14*100 -> #DIV/0! | G14: =F14/C14*100 -> #DIV/0! | I14: =H14/C14*100 -> #DIV/0! | K14: =J14/C14*100 -> #DIV/0! | M14: =L14/C14*100 -> #DIV/0! | O14: =N14/C14*100 -> #DIV/0!
B15: Библиотеки для детей | E15: =D15/C15*100 -> #DIV/0! | G15: =F15/C15*100 -> #DIV/0! | I15: =H15/C15*100 -> #DIV/0! | K15: =J15/C15*100 -> #DIV/0! | M15: =L15/C15*100 -> #DIV/0! | O15: =N15/C15*100 -> #DIV/0!
A16: 1 | B16: Центральная б-ка для детей | E16: =D16/C16*100 -> #DIV/0! | G16: =F16/C16*100 -> #DIV/0! | I16: =H16/C16*100 -> #DIV/0! | K16: =J16/C16*100 -> #DIV/0! | M16: =L16/C16*100 -> #DIV/0! | O16: =N16/C16*100 -> #DIV/0!
A17: 2 | B17: Библ-филиал № 4 для детей | E17: =D17/C17*100 -> #DIV/0! | G17: =F17/C17*100 -> #DIV/0! | I17: =H17/C17*100 -> #DIV/0! | K17: =J17/C17*100 -> #DIV/0! | M17: =L17/C17*100 -> #DIV/0! | O17: =N17/C17*100 -> #DIV/0!
A18: 3 | B18: Библ-филиал № 5 для детей | E18: =D18/C18*100 -> #DIV/0! | G18: =F18/C18*100 -> #DIV/0! | I18: =H18/C18*100 -> #DIV/0! | K18: =J18/C18*100 -> #DIV/0! | M18: =L18/C18*100 -> #DIV/0! | O18: =N18/C18*100 -> #DIV/0!
B19: и т.д. | E19: =D19/C19*100 -> #DIV/0! | G19: =F19/C19*100 -> #DIV/0! | I19: =H19/C19*100 -> #DIV/0! | K19: =J19/C19*100 -> #DIV/0! | M19: =L19/C19*100 -> #DIV/0! | O19: =N19/C19*100 -> #DIV/0!
E20: =D20/C20*100 -> #DIV/0! | G20: =F20/C20*100 -> #DIV/0! | I20: =H20/C20*100 -> #DIV/0! | K20: =J20/C20*100 -> #DIV/0! | M20: =L20/C20*100 -> #DIV/0! | O20: =N20/C20*100 -> #DIV/0!
A21: Всего по б-кам для детей | C21: =SUM(C16:C20) -> 0 | D21: =SUM(D16:D20) -> 0 | E21: =D21/C21*100 -> #DIV/0! | F21: =SUM(F16:F20) -> 0 | G21: =F21/C21*100 -> #DIV/0! | H21: =SUM(H16:H20) -> 0 | I21: =H21/C21*100 -> #DIV/0! | J21: =SUM(J16:J20) -> 0 | K21: =J21/C21*100 -> #DIV/0! | L21: =SUM(L16:L20) -> 0 | M21: =L21/C21*100 -> #DIV/0! | N21: =SUM(N16:N20) -> 0 | O21: =N21/C21*100 -> #DIV/0!
B22: Библиотека для юношества | E22: =D22/C22*100 -> #DIV/0! | G22: =F22/C22*100 -> #DIV/0! | I22: =H22/C22*100 -> #DIV/0! | K22: =J22/C22*100 -> #DIV/0! | M22: =L22/C22*100 -> #DIV/0! | O22: =N22/C22*100 -> #DIV/0!
B23: Сельские библиотеки | E23: =D23/C23*100 -> #DIV/0! | G23: =F23/C23*100 -> #DIV/0! | I23: =H23/C23*100 -> #DIV/0! | K23: =J23/C23*100 -> #DIV/0! | M23: =L23/C23*100 -> #DIV/0! | O23: =N23/C23*100 -> #DIV/0!
A24: 1 | B24: Название сельской б-ки №1 | E24: =D24/C24*100 -> #DIV/0! | G24: =F24/C24*100 -> #DIV/0! | I24: =H24/C24*100 -> #DIV/0! | K24: =J24/C24*100 -> #DIV/0! | M24: =L24/C24*100 -> #DIV/0! | O24: =N24/C24*100 -> #DIV/0!
A25: 2 | B25: Название сельской б-ки №2 | E25: =D25/C25*100 -> #DIV/0! | G25: =F25/C25*100 -> #DIV/0! | I25: =H25/C25*100 -> #DIV/0! | K25: =J25/C25*100 -> #DIV/0! | M25: =L25/C25*100 -> #DIV/0! | O25: =N25/C25*100 -> #DIV/0!
B26: и т.д. | E26: =D26/C26*100 -> #DIV/0! | G26: =F26/C26*100 -> #DIV/0! | I26: =H26/C26*100 -> #DIV/0! | K26: =J26/C26*100 -> #DIV/0! | M26: =L26/C26*100 -> #DIV/0! | O26: =N26/C26*100 -> #DIV/0!
A29: Всего по сельським библиотекам | C29: =SUM(C24:C28) -> 0 | D29: =SUM(D24:D28) -> 0 | E29: =D29/C29*100 -> #DIV/0! | F29: =SUM(F24:F27) -> 0 | G29: =F29/C29*100 -> #DIV/0! | H29: =SUM(H24:H28) -> 0 | I29: =H29/C29*100 -> #DIV/0! | J29: =SUM(J24:J28) -> 0 | K29: =J29/C29*100 -> #DIV/0! | L29: =SUM(L24:L28) -> 0 | M29: =L29/C29*100 -> #DIV/0! | N29: =SUM(N24:N28) -> 0 | O29: =N29/C29*100 -> #DIV/0!
A30: в т.ч. по сельським б-кам, находящихся в сельськой местности | E30: =D30/C30*100 -> #DIV/0! | G30: =F30/C30*100 -> #DIV/0! | I30: =H30/C30*100 -> #DIV/0! | K30: =J30/C30*100 -> #DIV/0! | M30: =L30/C30*100 -> #DIV/0! | O30: =N30/C30*100 -> #DIV/0!
A31: Всего по библиотекам города (района) | C31: =SUM(C13,C14,C21,C22,C29) -> 0 | D31: =SUM(D13,D14,D21,D22,D29) -> 0 | E31: =D31/C31*100 -> #DIV/0! | F31: =SUM(F13,F14,F21,F22,F29) -> 0 | G31: =(F31*100)/C31 -> #DIV/0! | H31: =SUM(H13,H14,H21,H22,H29) -> 0 | I31: =H31/C31*100 -> #DIV/0! | J31: =SUM(J13,J14,J21,J22,J29) -> 0 | K31: =J31/C31*100 -> #DIV/0! | L31: =SUM(L14,L21,L13,L22,L29) -> 0 | M31: =L31/C31*100 -> #DIV/0! | N31: =SUM(N13,N14,N21,N22,N29) -> 0 | O31: =N31/C31*100 -> #DIV/0!

Sheet 13
A1: Таблица № 13
A2: № п/п | B2: Тип и название библиотеки | C2: Число пользователей на конец отчетного года (чел.) | H2: в т.ч. зарегистр. удаленных пользоват. | I2: Обслужено Интернет
C3: Всего обслужено пользователей | D3: Число пользователей по единой регистрац. к-ке (ЕРК) | E3: у т.ч. по возрасту | I3: к-во польз. | J3: посещений
E4: до 15 лет | F4: 15-21 года | G4: свыше 22 лет
B5: Городские, поселковые б-ки для взрослых
A6: 1 | B6: Центральна городская б-ка | D6: =E6+F6+G6 -> 0
A7: 2 | B7: Библиотека-филиал № 1 | D7: =E7+F7+G7 -> 0
A8: 3 | B8: Библиотека-филиал № 2 | D8: =E8+F8+G8 -> 0
B9: и т.д. | D9: =E9+F9+G9 -> 0
A10: Всего по городским б-кам для взрослых | C10: =SUM(C6:C9) -> 0 | D10: =SUM(D5:D9) -> 0 | E10: =SUM(E5:E9) -> 0 | F10: =SUM(F5:F9) -> 0 | G10: =SUM(G5:G9) -> 0 | H10: =SUM(H5:H9) -> 0 | I10: =SUM(I5:I9) -> 0 | J10: =SUM(J5:J9) -> 0
B11: Районная библиотека | D11: =SUM(E11:G11) -> 0
B12: Библиотеки для детей
A13: 1 | B13: Центральная б-ка для детей | D13: =E13+F13+G13 -> 0
A14: 2 | B14: Библ-филиал № 4 для детей | D14: =E14+F14+G14 -> 0
A15: 3 | B15: Библ-филиал № 5 для детей | D15: =E15+F15+G15 -> 0
B16: и т.д. | D16: =E16+F16+G16 -> 0
D17: =E17+F17+G17 -> 0
A18: Всего по б-кам для детей | C18: =SUM(C13:C17) -> 0 | D18: =SUM(D13:D16) -> 0 | E18: =SUM(E13:E16) -> 0 | F18: =SUM(F13:F16) -> 0 | G18: =SUM(G13:G16) -> 0 | H18: =SUM(H13:H16) -> 0 | I18: =SUM(I13:I16) -> 0 | J18: =SUM(J13:J16) -> 0
B19: Библиотека для юношества | D19: =E19+F19+G19 -> 0
B20: Сельские библиотеки
A21: 1 | B21: Название сельской б-ки №1 | D21: =E21+F21+G21 -> 0
A22: 2 | B22: Название сельской б-ки №2 | D22: =E22+F22+G22 -> 0
B23: и т.д. | D23: =E23+F23+G23 -> 0
A25: Всего по сельським библиотекам | C25: =SUM(C21:C24) -> 0 | D25: =D20+D21+D22+D23+D24 -> 0 | E25: =E20+E21+E22+E23+E24 -> 0 | F25: =F20+F21+F22+F23+F24 -> 0 | G25: =G20+G21+G22+G23+G24 -> 0 | H25: =H20+H21+H22+H23+H24 -> 0 | I25: =I20+I21+I22+I23+I24 -> 0 | J25: =J20+J21+J22+J23+J24 -> 0
A26: в т.ч. по сельським б-кам, находящихся в сельськой местности | D26: =E26+F26+G26 -> 0
A27: Всего по библиотекам города (района) | C27: =SUM(C10,C11,C18,C19,C25) -> 0 | D27: =D10+D11+D18+D19+D25 -> 0 | E27: =E10+E11+E18+E19+E25 -> 0 | F27: =F10+F11+F18+F19+F25 -> 0 | G27: =G10+G11+G18+G19+G25 -> 0 | H27: =H10+H11+H18+H19+H25 -> 0 | I27: =I10+I11+I18+I19+I25 -> 0 | J27: =J10+J11+J18+J19+J25 -> 0

Sheet 14
A1: Таблица № 14
A2: № п/п | B2: Тип и название библиотеки | C2: Число посещений на конец отчетного года | G2: обращаемость библиотечного фонда | H2: Документообеспеченностьб | J2: читаемость
C3: Число посещений библиотеки (всего) | D3: в т.ч. | F3: посещение 1 пользователем | H3: 1 жителя | I3: 1 пользователя
D4: посещение массовых мероприятий | E4: обращение удаленных пользователей
B5: Городские, поселковые б-ки для взрослых
A6: 1 | B6: Центральна городская б-ка | F6: =C6/'13'!C6 -> #DIV/0! | G6: ='15'!C8/'11'!C8 -> #DIV/0! | H6: ='11'!C8/'1'!C11 -> #DIV/0! | I6: ='11'!C8/'13'!C6 -> #DIV/0! | J6: ='15'!C8/'13'!C6 -> #DIV/0!
A7: 2 | B7: Библиотека-филиал № 1 | F7: =C7/'13'!C7 -> #DIV/0! | G7: ='15'!C9/'11'!C9 -> #DIV/0! | H7: ='11'!C9/'1'!C12 -> #DIV/0! | I7: ='11'!C9/'13'!C7 -> #DIV/0! | J7: ='15'!C9/'13'!C7 -> #DIV/0!
A8: 3 | B8: Библиотека-филиал № 2 | F8: =C8/'13'!C8 -> #DIV/0! | G8: ='15'!C10/'11'!C10 -> #DIV/0! | H8: ='11'!C10/'1'!C13 -> #DIV/0! | I8: ='11'!C10/'13'!C8 -> #DIV/0! | J8: ='15'!C10/'13'!C8 -> #DIV/0!
B9: и т.д. | F9: =C9/'13'!C9 -> #DIV/0! | G9: ='15'!C11/'11'!C11 -> #DIV/0! | H9: ='11'!C11/'1'!C14 -> #DIV/0! | I9: ='11'!C11/'13'!C9 -> #DIV/0! | J9: ='15'!C11/'13'!C9 -> #DIV/0!
G10: ='15'!C12/'11'!C12 -> #DIV/0! | J10: ='15'!C12/'13'!#REF! -> #REF!
A11: Всего по городским б-кам для взрослых | C11: =SUM(C6:C10) -> 0 | D11: =SUM(D6:D10) -> 0 | E11: =SUM(E6:E10) -> 0 | F11: =C11/'13'!#REF! -> #REF! | G11: ='15'!C13/'11'!C13 -> #DIV/0! | H11: ='11'!C13/'1'!C15 -> #DIV/0! | I11: ='11'!C13/'13'!#REF! -> #REF! | J11: ='15'!C13/'13'!#REF! -> #REF!
B12: Районная библиотека | F12: =C12/'13'!C10 -> #DIV/0! | G12: ='15'!C14/'11'!C14 -> #DIV/0! | H12: ='11'!C14/'1'!C16 -> #DIV/0! | I12: ='11'!C14/'13'!C10 -> #DIV/0! | J12: ='15'!C14/'13'!C10 -> #DIV/0!
B13: Библиотеки для детей | F13: =C13/'13'!C11 -> #DIV/0! | G13: ='15'!C15/'11'!C15 -> #DIV/0! | H13: ='11'!C15/'1'!C17 -> #DIV/0! | I13: ='11'!C15/'13'!C11 -> #DIV/0! | J13: ='15'!C15/'13'!C11 -> #DIV/0!
A14: 1 | B14: Центральная б-ка для детей | F14: =C14/'13'!C12 -> #DIV/0! | G14: ='15'!C16/'11'!C16 -> #DIV/0! | H14: ='11'!C16/'1'!C18 -> #DIV/0! | I14: ='11'!C16/'13'!C12 -> #DIV/0! | J14: ='15'!C16/'13'!C12 -> #DIV/0!
A15: 2 | B15: Библ-филиал № 4 для детей | F15: =C15/'13'!C13 -> #DIV/0! | G15: ='15'!C17/'11'!C17 -> #DIV/0! | H15: ='11'!C17/'1'!C19 -> #DIV/0! | I15: ='11'!C17/'13'!C13 -> #DIV/0! | J15: ='15'!C17/'13'!C13 -> #DIV/0!
A16: 3 | B16: Библ-филиал № 5 для детей | F16: =C16/'13'!C14 -> #DIV/0! | G16: ='15'!C18/'11'!C18 -> #DIV/0! | H16: ='11'!C18/'1'!C20 -> #DIV/0! | I16: ='11'!C18/'13'!C14 -> #DIV/0! | J16: ='15'!C18/'13'!C14 -> #DIV/0!
B17: и т.д. | F17: =C17/'13'!C15 -> #DIV/0! | G17: ='15'!C19/'11'!C19 -> #DIV/0! | H17: ='11'!C19/'1'!C21 -> #DIV/0! | I17: ='11'!C19/'13'!C15 -> #DIV/0! | J17: ='15'!C19/'13'!C15 -> #DIV/0!
G18: ='15'!C21/'11'!C21 -> #DIV/0! | J18: ='15'!C21/'13'!C17 -> #DIV/0!
A19: Всего по б-кам для детей | C19: =SUM(C14:C18) -> 0 | D19: =SUM(D14:D18) -> 0 | E19: =SUM(E14:E18) -> 0 | F19: =C19/'13'!C18 -> #DIV/0! | G19: ='15'!C22/'11'!C22 -> #DIV/0! | H19: ='11'!C22/'1'!C24 -> #DIV/0! | I19: ='11'!C22/'13'!C18 -> #DIV/0! | J19: ='15'!C22/'13'!C18 -> #DIV/0!
B20: Библиотека для юношества | F20: =C20/'13'!C19 -> #DIV/0! | G20: ='15'!C23/'11'!C23 -> #DIV/0! | H20: ='11'!C23/'1'!C25 -> #DIV/0! | I20: ='11'!C23/'13'!C19 -> #DIV/0! | J20: ='15'!C23/'13'!C19 -> #DIV/0!
B21: Сельские библиотеки | F21: =C21/'13'!C20 -> #DIV/0! | G21: ='15'!C24/'11'!C24 -> #DIV/0! | H21: ='11'!C24/'1'!C26 -> #DIV/0! | I21: ='11'!C24/'13'!C20 -> #DIV/0! | J21: ='15'!C24/'13'!C20 -> #DIV/0!
A22: 1 | B22: Название сельской б-ки №1 | F22: =C22/'13'!C21 -> #DIV/0! | G22: ='15'!C25/'11'!C25 -> #DIV/0! | H22: ='11'!C25/'1'!C27 -> #DIV/0! | I22: ='11'!C25/'13'!C21 -> #DIV/0! | J22: ='15'!C25/'13'!C21 -> #DIV/0!
A23: 2 | B23: Название сельской б-ки №2 | F23: =C23/'13'!C22 -> #DIV/0! | G23: ='15'!C26/'11'!C26 -> #DIV/0! | H23: ='11'!C26/'1'!C28 -> #DIV/0! | I23: ='11'!C26/'13'!C22 -> #DIV/0! | J23: ='15'!C26/'13'!C22 -> #DIV/0!
B24: и т.д. | F24: =C24/'13'!C23 -> #DIV/0! | G24: ='15'!C27/'11'!C27 -> #DIV/0! | H24: ='11'!C27/'1'!C29 -> #DIV/0! | I24: ='11'!C27/'13'!C23 -> #DIV/0! | J24: ='15'!C27/'13'!C23 -> #DIV/0!
G25: ='15'!C28/'11'!C28 -> #DIV/0! | J25: ='15'!C28/'13'!C24 -> #DIV/0!
A26: Всего по сельським библиотекам | C26: =SUM(C22:C25) -> 0 | D26: =D21+D22+D23+D24+D25 -> 0 | E26: =E21+E22+E23+E24+E25 -> 0 | F26: =C26/'13'!C25 -> #DIV/0! | G26: ='15'!C29/'11'!C29 -> #DIV/0! | H26: ='11'!C29/'1'!C31 -> #DIV/0! | I26: ='11'!C29/'13'!C25 -> #DIV/0! | J26: ='15'!C29/'13'!C25 -> #DIV/0!
A27: в т.ч. по сельським б-кам, находящихся в сельськой местности | F27: =C27/'13'!C26 -> #DIV/0! | G27: ='15'!C30/'11'!C30 -> #DIV/0! | H27: ='11'!C30/'1'!C32 -> #DIV/0! | I27: ='11'!C30/'13'!C26 -> #DIV/0! | J27: ='15'!C30/'13'!C26 -> #DIV/0!
A28: Всего по библиотекам города (района) | C28: =SUM(C11,C12,C19,C20,C26) -> 0 | D28: =D11+D12+D19+D26 -> 0 | E28: =E11+E12+E19+E26 -> 0 | F28: =C28/'13'!C27 -> #DIV/0! | G28: ='15'!C31/'11'!C31 -> #DIV/0! | H28: ='11'!C31/'1'!C33 -> #DIV/0! | I28: ='11'!C31/'13'!C27 -> #DIV/0! | J28: ='15'!C31/'13'!C27 -> #DIV/0!

Sheet 15
A1: Таблица № 15
A2: № п/п | B2: Тип и название библиотеки | C2: 1. Выдача документов на конец отчетного года (экз.)
C3: всего | D3: по видам | H3: по языкам
D5: книги, брошюры | E5: периодические издания | F5: аудиовизуальные | G5: электронные | H5: русский | I5: украинский | J5: греческий | K5: иностранный
B7: Городские, поселковые б-ки для взрослых
A8: 1 | B8: Центральна городская б-ка
A9: 2 | B9: Библиотека-филиал № 1
A10: 3 | B10: Библиотека-филиал № 2
B11: и т.д.
A13: Всего по городским б-кам для взрослых | C13: =SUM(C8:C12) -> 0 | D13: =SUM(D8:D12) -> 0 | E13: =SUM(E8:E12) -> 0 | F13: =SUM(F8:F12) -> 0 | G13: =SUM(G8:G12) -> 0 | H13: =SUM(H8:H12) -> 0 | I13: =SUM(I8:I12) -> 0 | J13: =SUM(J8:J12) -> 0 | K13: =SUM(K8:K12) -> 0
B14: Районная библиотека
B15: Библиотеки для детей
A16: 1 | B16: Центральная б-ка для детей
A17: 2 | B17: Библ-филиал № 4 для детей
A18: 3 | B18: Библ-филиал № 5 для детей
B19: и т.д.
A22: Всего по б-кам для детей | C22: =SUM(C16:C21) -> 0 | D22: =SUM(D16:D21) -> 0 | E22: =SUM(E16:E21) -> 0 | F22: =SUM(F16:F21) -> 0 | G22: =SUM(G16:G21) -> 0 | H22: =SUM(H16:H21) -> 0 | I22: =SUM(I16:I21) -> 0 | J22: =SUM(J16:J21) -> 0 | K22: =SUM(K16:K21) -> 0
B23: Библиотека для юношества
B24: Сельские библиотеки
A25: 1 | B25: Название сельской б-ки №1
A26: 2 | B26: Название сельской б-ки №2
B27: и т.д.
A29: Всего по сельським библиотекам | C29: =SUM(C25:C28) -> 0 | D29: =SUM(D25:D28) -> 0 | E29: =SUM(E25:E28) -> 0 | F29: =SUM(F25:F28) -> 0 | G29: =SUM(G25:G28) -> 0 | H29: =SUM(H25:H28) -> 0 | I29: =SUM(I25:I28) -> 0 | J29: =SUM(J25:J28) -> 0 | K29: =SUM(K25:K28) -> 0
A30: в т.ч. по сельським б-кам, находящихся в сельськой местности
A31: Всего по библиотекам города (района) | C31: =SUM(C13,C14,C22,C23,C29) -> 0 | D31: =SUM(D13,D14,D22,D23,D29) -> 0 | E31: =SUM(E13,E14,E22,E23,E29) -> 0 | F31: =SUM(F13,F14,F22,F23,F29) -> 0 | G31: =SUM(G13,G14,G22,G23,G29) -> 0 | H31: =SUM(H13,H14,H22,H23,H29) -> 0 | I31: =SUM(I13,I14,I22,I23,I29) -> 0 | J31: =SUM(J13,J14,J22,J23,J29) -> 0 | K31: =SUM(K13,K14,K22,K23,K29) -> 0

Sheet 16
A1: Таблица № 16
A2: № п/п | B2: Тип и название библиотеки | C2: всего | D2: 2. Выдача документов на конец отчетного года (экз.)
D3: по содержанию
D4: общественно-политического содержания | F4: естественно-научной тематики | H4: технике | J4: гуманитарного содержания | L4: из общего числа
L5: отраслевая | N5: художественная
D6: всего | E6: % | F6: всего | G6: % | H6: всего | I6: % | J6: всего | K6: % | L6: всего | M6: % | N6: всего | O6: %
B7: Городские, поселковые б-ки для взрослых
A8: 1 | B8: Центральна городская б-ка | E8: =D8/C8*100 -> #DIV/0! | G8: =F8/C8*100 -> #DIV/0! | I8: =H8/C8*100 -> #DIV/0! | K8: =J8/C8*100 -> #DIV/0! | M8: =L8/C8*100 -> #DIV/0! | O8: =N8/C8*100 -> #DIV/0!
A9: 2 | B9: Библиотека-филиал № 1 | E9: =D9/C9*100 -> #DIV/0! | G9: =F9/C9*100 -> #DIV/0! | I9: =H9/C9*100 -> #DIV/0! | K9: =J9/C9*100 -> #DIV/0! | M9: =L9/C9*100 -> #DIV/0! | O9: =N9/C9*100 -> #DIV/0!
A10: 3 | B10: Библиотека-филиал № 2 | E10: =D10/C10*100 -> #DIV/0! | G10: =F10/C10*100 -> #DIV/0! | I10: =H10/C10*100 -> #DIV/0! | K10: =J10/C10*100 -> #DIV/0! | M10: =L10/C10*100 -> #DIV/0! | O10: =N10/C10*100 -> #DIV/0!
B11: и т.д. | E11: =D11/C11*100 -> #DIV/0! | G11: =F11/C11*100 -> #DIV/0! | I11: =H11/C11*100 -> #DIV/0! | K11: =J11/C11*100 -> #DIV/0! | M11: =L11/C11*100 -> #DIV/0! | O11: =N11/C11*100 -> #DIV/0!
E12: =D12/C12*100 -> #DIV/0! | G12: =F12/C12*100 -> #DIV/0! | I12: =H12/C12*100 -> #DIV/0! | K12: =J12/C12*100 -> #DIV/0! | M12: =L12/C12*100 -> #DIV/0! | O12: =N12/C12*100 -> #DIV/0!
A13: Всего по городским б-кам для взрослых | C13: =SUM(C8:C12) -> 0 | D13: =SUM(D8:D12) -> 0 | E13: =D13/C13*100 -> #DIV/0! | G13: =F13/C13*100 -> #DIV/0! | I13: =H13/C13*100 -> #DIV/0! | K13: =J13/C13*100 -> #DIV/0! | M13: =L13/C13*100 -> #DIV/0! | O13: =N13/C13*100 -> #DIV/0!
B14: Районная библиотека | E14: =D14/C14*100 -> #DIV/0! | G14: =F14/C14*100 -> #DIV/0! | I14: =H14/C14*100 -> #DIV/0! | K14: =J14/C14*100 -> #DIV/0! | M14: =L14/C14*100 -> #DIV/0! | O14: =N14/C14*100 -> #DIV/0!
B15: Библиотеки для детей | E15: =D15/C15*100 -> #DIV/0! | G15: =F15/C15*100 -> #DIV/0! | I15: =H15/C15*100 -> #DIV/0! | K15: =J15/C15*100 -> #DIV/0! | M15: =L15/C15*100 -> #DIV/0! | O15: =N15/C15*100 -> #DIV/0!
A16: 1 | B16: Центральная б-ка для детей | E16: =D16/C16*100 -> #DIV/0! | G16: =F16/C16*100 -> #DIV/0! | I16: =H16/C16*100 -> #DIV/0! | K16: =J16/C16*100 -> #DIV/0! | M16: =L16/C16*100 -> #DIV/0! | O16: =N16/C16*100 -> #DIV/0!
A17: 2 | B17: Библ-филиал № 4 для детей | E17: =D17/C17*100 -> #DIV/0! | G17: =F17/C17*100 -> #DIV/0! | I17: =H17/C17*100 -> #DIV/0! | K17: =J17/C17*100 -> #DIV/0! | M17: =L17/C17*100 -> #DIV/0! | O17: =N17/C17*100 -> #DIV/0!
A18: 3 | B18: Библ-филиал № 5 для детей | E18: =D18/C18*100 -> #DIV/0! | G18: =F18/C18*100 -> #DIV/0! | I18: =H18/C18*100 -> #DIV/0! | K18: =J18/C18*100 -> #DIV/0! | M18: =L18/C18*100 -> #DIV/0! | O18: =N18/C18*100 -> #DIV/0!
B19: и т.д. | E19: =D19/C19*100 -> #DIV/0! | G19: =F19/C19*100 -> #DIV/0! | I19: =H19/C19*100 -> #DIV/0! | K19: =J19/C19*100 -> #DIV/0! | M19: =L19/C19*100 -> #DIV/0! | O19: =N19/C19*100 -> #DIV/0!
E20: =D20/C20*100 -> #DIV/0! | G20: =F20/C20*100 -> #DIV/0! | I20: =H20/C20*100 -> #DIV/0! | K20: =J20/C20*100 -> #DIV/0! | M20: =L20/C20*100 -> #DIV/0! | O20: =N20/C20*100 -> #DIV/0!
E21: =D21/C21*100 -> #DIV/0! | G21: =F21/C21*100 -> #DIV/0! | I21: =H21/C21*100 -> #DIV/0! | K21: =J21/C21*100 -> #DIV/0! | M21: =L21/C21*100 -> #DIV/0! | O21: =N21/C21*100 -> #DIV/0!
A22: Всего по б-кам для детей | C22: =SUM(C16:C20) -> 0 | D22: =SUM(D16:D20) -> 0 | E22: =D22/C22*100 -> #DIV/0! | G22: =F22/C22*100 -> #DIV/0! | I22: =H22/C22*100 -> #DIV/0! | K22: =J22/C22*100 -> #DIV/0! | M22: =L22/C22*100 -> #DIV/0! | O22: =N22/C22*100 -> #DIV/0!
B23: Библиотека для юношества | E23: =D23/C23*100 -> #DIV/0! | G23: =F23/C23*100 -> #DIV/0! | I23: =H23/C23*100 -> #DIV/0! | K23: =J23/C23*100 -> #DIV/0! | M23: =L23/C23*100 -> #DIV/0! | O23: =N23/C23*100 -> #DIV/0!
B24: Сельские библиотеки | E24: =D24/C24*100 -> #DIV/0! | G24: =F24/C24*100 -> #DIV/0! | I24: =H24/C24*100 -> #DIV/0! | K24: =J24/C24*100 -> #DIV/0! | M24: =L24/C24*100 -> #DIV/0! | O24: =N24/C24*100 -> #DIV/0!
A25: 1 | B25: Название сельской б-ки №1 | E25: =D25/C25*100 -> #DIV/0! | G25: =F25/C25*100 -> #DIV/0! | I25: =H25/C25*100 -> #DIV/0! | K25: =J25/C25*100 -> #DIV/0! | M25: =L25/C25*100 -> #DIV/0! | O25: =N25/C25*100 -> #DIV/0!
A26: 2 | B26: Название сельской б-ки №2 | E26: =D26/C26*100 -> #DIV/0! | G26: =F26/C26*100 -> #DIV/0! | I26: =H26/C26*100 -> #DIV/0! | K26: =J26/C26*100 -> #DIV/0! | M26: =L26/C26*100 -> #DIV/0! | O26: =N26/C26*100 -> #DIV/0!
B27: и т.д. | E27: =D27/C27*100 -> #DIV/0! | G27: =F27/C27*100 -> #DIV/0! | I27: =H27/C27*100 -> #DIV/0! | K27: =J27/C27*100 -> #DIV/0! | M27: =L27/C27*100 -> #DIV/0! | O27: =N27/C27*100 -> #DIV/0!
E28: =D28/C28*100 -> #DIV/0! | G28: =F28/C28*100 -> #DIV/0! | I28: =H28/C28*100 -> #DIV/0! | K28: =J28/C28*100 -> #DIV/0! | M28: =L28/C28*100 -> #DIV/0! | O28: =N28/C28*100 -> #DIV/0!
A29: Всего по сельським библиотекам | C29: =SUM(C25:C28) -> 0 | D29: =SUM(D25:D28) -> 0 | E29: =D29/C29*100 -> #DIV/0! | G29: =F29/C29*100 -> #DIV/0! | I29: =H29/C29*100 -> #DIV/0! | K29: =J29/C29*100 -> #DIV/0! | M29: =L29/C29*100 -> #DIV/0! | O29: =N29/C29*100 -> #DIV/0!
A30: в т.ч. по сельським б-кам, находящихся в сельськой местности | E30: =D30/C30*100 -> #DIV/0! | G30: =F30/C30*100 -> #DIV/0! | I30: =H30/C30*100 -> #DIV/0! | K30: =J30/C30*100 -> #DIV/0! | M30: =L30/C30*100 -> #DIV/0! | O30: =N30/C30*100 -> #DIV/0!
A31: Всего по библиотекам города (района) | C31: =SUM(C13,C14,C22,C23,C29) -> 0 | D31: =SUM(D13,D14,D22,D23,D29) -> 0 | E31: =D31/C31*100 -> #DIV/0! | G31: =F31/C31*100 -> #DIV/0! | I31: =H31/C31*100 -> #DIV/0! | K31: =J31/C31*100 -> #DIV/0! | M31: =L31/C31*100 -> #DIV/0! | O31: =N31/C31*100 -> #DIV/0!

Sheet 17
A1: Таблица № 17
A2: № п/п | B2: Тип и название библиотеки | C2: 1. Выдача документов в т.ч. пользователям до 15 лет (экз.)
C3: всего | D3: по видам | H3: по языкам
D5: книги, брошюры | E5: периодические издания | F5: аудио-визуальные | G5: электронные | H5: русский | I5: украинский | J5: греческий | K5: иностранный
B7: Городские, поселковые б-ки для взрослых
A8: 1 | B8: Центральна городская б-ка
A9: 2 | B9: Библиотека-филиал № 1
A10: 3 | B10: Библиотека-филиал № 2
B11: и т.д.
A13: Всего по городским б-кам для взрослых | C13: =SUM(C8:C12) -> 0 | D13: =SUM(D8:D12) -> 0 | E13: =SUM(E8:E12) -> 0 | F13: =SUM(F8:F12) -> 0 | G13: =SUM(G8:G12) -> 0 | H13: =SUM(H8:H12) -> 0 | I13: =SUM(I8:I12) -> 0 | J13: =SUM(J8:J12) -> 0 | K13: =SUM(K8:K12) -> 0
B14: Районная библиотека
B15: Библиотеки для детей
A16: 1 | B16: Центральная б-ка для детей
A17: 2 | B17: Библ-филиал № 4 для детей
A18: 3 | B18: Библ-филиал № 5 для детей
B19: и т.д.
A22: Всего по б-кам для детей | C22: =SUM(C16:C21) -> 0 | D22: =SUM(D16:D21) -> 0 | E22: =SUM(E16:E21) -> 0 | F22: =SUM(F16:F21) -> 0 | G22: =SUM(G16:G21) -> 0 | H22: =SUM(H16:H21) -> 0 | I22: =SUM(I16:I21) -> 0 | J22: =SUM(J16:J21) -> 0 | K22: =SUM(K16:K21) -> 0
B23: Библиотека для юношества
B24: Сельские библиотеки
A25: 1 | B25: Название сельской б-ки №1
A26: 2 | B26: Название сельской б-ки №2
B27: и т.д.
A29: Всего по сельським библиотекам | C29: =SUM(C25:C28) -> 0 | D29: =SUM(D25:D28) -> 0 | E29: =SUM(E25:E28) -> 0 | F29: =SUM(F25:F28) -> 0 | G29: =SUM(G25:G28) -> 0 | H29: =SUM(H25:H28) -> 0 | I29: =SUM(I25:I28) -> 0 | J29: =SUM(J25:J28) -> 0 | K29: =SUM(K25:K28) -> 0
A30: в т.ч. по сельським б-кам, находящихся в сельськой местности
A31: Всего по библиотекам города (района) | C31: =SUM(C13,C14,C22,C23,C29) -> 0 | D31: =SUM(D13,D14,D22,D23,D29) -> 0 | E31: =SUM(E13,E14,E22,E23,E29) -> 0 | F31: =SUM(F13,F14,F22,F23,F29) -> 0 | G31: =SUM(G13,G14,G22,G23,G29) -> 0 | H31: =SUM(H13,H14,H22,H23,H29) -> 0 | I31: =SUM(I13,I14,I22,I23,I29) -> 0 | J31: =SUM(J13,J14,J22,J23,J29) -> 0 | K31: =SUM(K13,K14,K22,K23,K29) -> 0

Sheet 18
A1: Таблица № 18
A2: № п/п | B2: Тип и название библиотеки | C2: 1. Выдача документов пользователям от 15 до 21 года (экз.)
C3: всего | D3: по видам | H3: по языкам
D5: книги, брошюры | E5: периодические издания | F5: аудио-визуальные | G5: электронные | H5: русский | I5: украинский | J5: греческий | K5: иностранный
B7: Городские, поселковые б-ки для взрослых
A8: 1 | B8: Центральна городская б-ка
A9: 2 | B9: Библиотека-филиал № 1
A10: 3 | B10: Библиотека-филиал № 2
B11: и т.д.
A13: Всего по городским б-кам для взрослых | C13: =SUM(C8:C12) -> 0 | D13: =SUM(D8:D12) -> 0 | E13: =SUM(E8:E12) -> 0 | F13: =SUM(F8:F12) -> 0 | G13: =SUM(G8:G12) -> 0 | H13: =SUM(H8:H12) -> 0 | I13: =SUM(I8:I12) -> 0 | J13: =SUM(J8:J12) -> 0 | K13: =SUM(K8:K12) -> 0
B14: Районная библиотека
B15: Библиотеки для детей
A16: 1 | B16: Центральная б-ка для детей
A17: 2 | B17: Библ-филиал № 4 для детей
A18: 3 | B18: Библ-филиал № 5 для детей
B19: и т.д.
A22: Всего по б-кам для детей | C22: =SUM(C16:C21) -> 0 | D22: =SUM(D16:D21) -> 0 | E22: =SUM(E16:E21) -> 0 | F22: =SUM(F16:F21) -> 0 | G22: =SUM(G16:G21) -> 0 | H22: =SUM(H16:H21) -> 0 | I22: =SUM(I16:I21) -> 0 | J22: =SUM(J16:J21) -> 0 | K22: =SUM(K16:K21) -> 0
B23: Библиотека для юношества
B24: Сельские библиотеки
A25: 1 | B25: Название сельской б-ки №1
A26: 2 | B26: Название сельской б-ки №2
B27: и т.д.
A29: Всего по сельським библиотекам | C29: =SUM(C25:C28) -> 0 | D29: =SUM(D25:D28) -> 0 | E29: =SUM(E25:E28) -> 0 | F29: =SUM(F25:F28) -> 0 | G29: =SUM(G25:G28) -> 0 | H29: =SUM(H25:H28) -> 0 | I29: =SUM(I25:I28) -> 0 | J29: =SUM(J25:J28) -> 0 | K29: =SUM(K25:K28) -> 0
A30: в т.ч. по сельським б-кам, находящихся в сельськой местности
A31: Всего по библиотекам города (района) | C31: =SUM(C13:C14,C22:C23,C29) -> 0 | D31: =SUM(D13:D14,D22:D23,D29) -> 0 | E31: =SUM(E13:E14,E22:E23,E29) -> 0 | F31: =SUM(F13:F14,F22:F23,F29) -> 0 | G31: =SUM(G13:G14,G22:G23,G29) -> 0 | H31: =SUM(H13:H14,H22:H23,H29) -> 0 | I31: =SUM(I13:I14,I22:I23,I29) -> 0 | J31: =SUM(J13:J14,J22:J23,J29) -> 0 | K31: =SUM(K13:K14,K22:K23,K29) -> 0

Sheet 19
A1: Таблица № 19
A2: № п/п | B2: Тип и название библиотеки | C2: Наличие и использование библиографических баз данных | G2: Межбиблиотечний абонемент (МБА)
C3: библиографические базы данных | E3: из них электронные каталоги | G3: число библиотек-абонентов МБА | H3: число выданных документов | I3: число пользователей МБА | J3: число полученных документов
C4: число | D4: в них записей | E4: число | F4: в них записей
B6: Городские, поселковые б-ки для взрослых
A7: 1 | B7: Центральна городская б-ка
A8: 2 | B8: Библиотека-филиал № 1
A9: 3 | B9: Библиотека-филиал № 2
B10: и т.д.
A12: Всего по городским б-кам для взрослых | C12: =SUM(C7:C11) -> 0 | D12: =SUM(D7:D11) -> 0 | E12: =SUM(E7:E11) -> 0 | F12: =SUM(F7:F11) -> 0 | G12: =SUM(G7:G11) -> 0 | H12: =SUM(H7:H11) -> 0 | I12: =SUM(I7:I11) -> 0 | J12: =SUM(J7:J11) -> 0
B13: Районная библиотека
B14: Библиотеки для детей
A15: 1 | B15: Центральная б-ка для детей
A16: 2 | B16: Библ-филиал № 4 для детей
A17: 3 | B17: Библ-филиал № 5 для детей
B18: и т.д.
A20: Всего по б-кам для детей | C20: =SUM(C15:C19) -> 0 | D20: =SUM(D15:D19) -> 0 | E20: =SUM(E15:E19) -> 0 | F20: =SUM(F15:F19) -> 0 | G20: =SUM(G15:G19) -> 0 | H20: =SUM(H15:H19) -> 0 | I20: =SUM(I15:I19) -> 0 | J20: =SUM(J15:J19) -> 0
B21: Библиотека для юношества
B22: Сельские библиотеки
A23: 1 | B23: Название сельской б-ки №1
A24: 2 | B24: Название сельской б-ки №2
B25: и т.д.
A27: Всего по сельським библиотекам | C27: =SUM(C23:C26) -> 0 | D27: =SUM(D23:D26) -> 0 | E27: =SUM(E23:E26) -> 0 | F27: =SUM(F23:F26) -> 0 | G27: =SUM(G23:G26) -> 0 | H27: =SUM(H23:H26) -> 0 | I27: =SUM(I23:I26) -> 0 | J27: =SUM(J23:J26) -> 0
A28: в т.ч. по сельським б-кам, находящихся в сельськой местности
A29: Всего по библиотекам города (района) | C29: =SUM(C12:C13,C20:C21,C27) -> 0 | D29: =SUM(D12:D13,D20:D21,D27) -> 0 | E29: =SUM(E12:E13,E20:E21,E27) -> 0 | F29: =SUM(F12:F13,F20:F21,F27) -> 0 | G29: =SUM(G12:G13,G20:G21,G27) -> 0 | H29: =SUM(H12:H13,H20:H21,H27) -> 0 | I29: =SUM(I12:I13,I20:I21,I27) -> 0 | J29: =SUM(J12:J13,J20:J21,J27) -> 0

Sheet 20
A1: Таблица № 20
A2: № п/п | B2: Тип и название библиотеки | C2: Справочно-информационное обслуживание
C3: Число абонентов информации | F3: Число выполененных справок | H3: Число центров информации по вопросам местного самоуправления | I3: Число ПДГ
C4: всего | D4: коллективной | E4: индивидуальной | F4: всего | G4: из них виртуальных
B6: Городские, поселковые б-ки для взрослых
A7: 1 | B7: Центральна городская б-ка
A8: 2 | B8: Библиотека-филиал № 1
A9: 3 | B9: Библиотека-филиал № 2
B10: и т.д.
A12: Всего по городским б-кам для взрослых | C12: =SUM(C7:C11) -> 0 | D12: =SUM(D7:D11) -> 0 | E12: =SUM(E7:E11) -> 0 | F12: =SUM(F7:F11) -> 0 | G12: =SUM(G7:G11) -> 0 | H12: =SUM(H7:H11) -> 0 | I12: =SUM(I7:I11) -> 0
B13: Районная библиотека
B14: Библиотеки для детей
A15: 1 | B15: Центральная б-ка для детей
A16: 2 | B16: Библ-филиал № 4 для детей
A17: 3 | B17: Библ-филиал № 5 для детей
B18: и т.д.
A21: Всего по б-кам для детей | C21: =SUM(C15:C20) -> 0 | D21: =SUM(D15:D20) -> 0 | E21: =SUM(E15:E20) -> 0 | F21: =SUM(F15:F20) -> 0 | G21: =SUM(G15:G20) -> 0 | H21: =SUM(H15:H20) -> 0 | I21: =SUM(I15:I20) -> 0
B22: Библиотека для юношества
B23: Сельские библиотеки
A24: 1 | B24: Название сельской б-ки №1
A25: 2 | B25: Название сельской б-ки №2
B26: и т.д.
A28: Всего по сельським библиотекам | C28: =SUM(C24:C27) -> 0 | D28: =SUM(D24:D27) -> 0 | E28: =SUM(E24:E27) -> 0 | F28: =SUM(F24:F27) -> 0 | G28: =SUM(G24:G27) -> 0 | H28: =SUM(H24:H27) -> 0 | I28: =SUM(I24:I27) -> 0
A29: в т.ч. по сельським б-кам, находящихся в сельськой местности
A30: Всего по библиотекам города (района) | C30: =SUM(C12,C13,C21,C22,C28) -> 0 | D30: =SUM(D12,D13,D21,D22,D28) -> 0 | E30: =SUM(E12,E13,E21,E22,E28) -> 0 | F30: =SUM(F12,F13,F21,F22,F28) -> 0 | G30: =SUM(G12,G13,G21,G22,G28) -> 0 | H30: =SUM(H12,H13,H21,H22,H28) -> 0 | I30: =SUM(I12,I13,I21,I22,I28) -> 0

Sheet 21
A1: Таблица № 21
A2: № п/п | B2: Тип и название библиотеки | C2: Персонал библиотеки (чел.)
C3: Численность работников библиотеки | D3: в т. ч. | F3: их них имеют образование | L3: Аттестация (ко-во раб.) | M3: Владеют ИКТ | N3: к-во библ. работников в отделах обслуж. | O3: к-во технических работников
D4: численность библ. работников | F4: высшее профессиональное | G4: в т. ч. | H4: среднее профес-сиональное | I4: в т. ч. | J4: полное общесреднее | K4: % специалистов
D6: штат | E6: факт. | G6: высшее проф. библ. | I6: среднее проф. библ.
B8: Городские, поселковые б-ки для взрослых
A9: 1 | B9: Центральна городская б-ка | K9: =(G9+I9)*100/E9 -> #DIV/0!
A10: 2 | B10: Библиотека-филиал № 1 | K10: =(G10+I10)*100/E10 -> #DIV/0!
A11: 3 | B11: Библиотека-филиал № 2 | K11: =(G11+I11)*100/E11 -> #DIV/0!
B12: и т.д. | K12: =(G12+I12)*100/E12 -> #DIV/0!
K13: =(G13+I13)*100/E13 -> #DIV/0!
K14: =(G14+I14)*100/E14 -> #DIV/0!
K15: =(G15+I15)*100/E15 -> #DIV/0!
A16: Всего по городским б-кам для взрослых | C16: =SUM(C9:C15) -> 0 | D16: =SUM(D9:D15) -> 0 | E16: =SUM(E9:E15) -> 0 | F16: =SUM(F9:F15) -> 0 | G16: =SUM(G9:G15) -> 0 | H16: =SUM(H9:H15) -> 0 | I16: =SUM(I9:I15) -> 0 | J16: =SUM(J9:J15) -> 0 | K16: =(G16+I16)*100/E16 -> #DIV/0! | M16: =SUM(M9:M15) -> 0 | O16: =SUM(O9:O15) -> 0
B17: Районная библиотека | K17: =(G17+I17)*100/E17 -> #DIV/0!
B18: Библиотеки для детей | K18: =(G18+I18)*100/E18 -> #DIV/0!
A19: 1 | B19: Центральная б-ка для детей | K19: =(G19+I19)*100/E19 -> #DIV/0!
A20: 2 | B20: Библиотека-филиал № 4 для детей | K20: =(G20+I20)*100/E20 -> #DIV/0!
A21: 3 | B21: Библиотека-филиал № 5 для детей | K21: =(G21+I21)*100/E21 -> #DIV/0!
B22: и т.д. | K22: =(G22+I22)*100/E22 -> #DIV/0!
K23: =(G23+I23)*100/E23 -> #DIV/0!
K24: =(G24+I24)*100/E24 -> #DIV/0!
A25: Всего по б-кам для детей | C25: =C18+C19+C20+C21+C22+C23+C24 -> 0 | D25: =D18+D19+D20+D21+D22+D23+D24 -> 0 | E25: =E18+E19+E20+E21+E22+E23+E24 -> 0 | F25: =F18+F19+F20+F21+F22+F23+F24 -> 0 | G25: =G18+G19+G20+G21+G22+G23+G24 -> 0 | H25: =H18+H19+H20+H21+H22+H23+H24 -> 0 | I25: =I18+I19+I20+I21+I22+I23+I24 -> 0 | J25: =J18+J19+J20+J21+J22+J23+J24 -> 0 | K25: =(G25+I25)*100/E25 -> #DIV/0! | M25: =M18+M19+M20+M21+M22+M23+M24 -> 0 | O25: =O18+O19+O20+O21+O22+O23+O24 -> 0
B26: Библиотека для юношества | K26: =(G26+I26)*100/E26 -> #DIV/0!
B27: Сельские библиотеки | K27: =(G27+I27)*100/E27 -> #DIV/0!
A28: 1 | B28: Название сельской б-ки №1 | K28: =(G28+I28)*100/E28 -> #DIV/0!
A29: 2 | B29: Название сельской б-ки №2 | K29: =(G29+I29)*100/E29 -> #DIV/0!
B30: и т.д.
K31: =(G31+I31)*100/E31 -> #DIV/0!
A32: Всего по сельським библиотекам | C32: =C27+C28+C29+C30+C31 -> 0 | D32: =D27+D28+D29+D30+D31 -> 0 | E32: =E27+E28+E29+E30+E31 -> 0 | F32: =F27+F28+F29+F30+F31 -> 0 | G32: =G27+G28+G29+G30+G31 -> 0 | H32: =H27+H28+H29+H30+H31 -> 0 | I32: =I27+I28+I29+I30+I31 -> 0 | J32: =J27+J28+J29+J30+J31 -> 0 | K32: =(G32+I32)*100/E32 -> #DIV/0! | M32: =M27+M28+M29+M30+M31 -> 0 | O32: =O27+O28+O29+O30+O31 -> 0
A33: в т.ч. по сельським б-кам, находящихся в сельськой местности | K33: =(G33+I33)*100/E33 -> #DIV/0!
A34: Всего по библиотекам города (района) | C34: =C16+C17+C25+C26+C32 -> 0 | D34: =D16+D17+D25+D26+D32 -> 0 | E34: =E16+E17+E25+E26+E32 -> 0 | F34: =F16+F17+F25+F26+F32 -> 0 | G34: =G16+G17+G25+G26+G32 -> 0 | H34: =H16+H17+H25+H26+H32 -> 0 | I34: =I16+I17+I25+I26+I32 -> 0 | J34: =J16+J17+J25+J26+J32 -> 0 | K34: =(G34+I34)*100/E34 -> #DIV/0! | M34: =M16+M17+M25+M26+M32 -> 0 | O34: =O16+O17+O25+O26+O32 -> 0

Sheet 22
A1: Таблица № 22
A2: № п/п | B2: Тип и название библиотеки | C2: Библиотечные работники
C3: по стажу библиотечной работы | G3: по возрасту | J3: по занятости | O3: Текучесть библ. работников
C4: до 3 лет | D4: 3-9 лет | E4: 10-20 лет | F4: свыше 20 лет | G4: до 30 лет | H4: от 30 до 55 лет | I4: старше 55 лет | J4: полный рабочий день | K4: неполный рабочий день | L4: в т. ч. | O4: принято | P4: выбыло | Q4: в т.ч.
L5: 0,75 ставки | M5: 0,5 ставки | N5: 0,25 ставки | Q5: сокращено
B7: Городские, поселковые б-ки для взрослых
A8: 1 | B8: Центральна городская б-ка
A9: 2 | B9: Библиотека-филиал № 1
A10: 3 | B10: Библиотека-филиал № 2
B11: и т.д.
A14: Всего по городским б-кам для взрослых | C14: =SUM(C8:C13) -> 0 | D14: =SUM(D8:D13) -> 0 | E14: =SUM(E8:E13) -> 0 | F14: =SUM(F8:F13) -> 0 | G14: =SUM(G8:G13) -> 0 | H14: =SUM(H8:H13) -> 0 | I14: =SUM(I8:I13) -> 0 | J14: =SUM(J8:J13) -> 0 | ... Q14: =SUM(Q8:Q13) -> 0
B15: Районная библиотека
B16: Библиотеки для детей
A17: 1 | B17: Центральная б-ка для детей
A18: 2 | B18: Библ-филиал № 4 для детей
A19: 3 | B19: Библ-филиал № 5 для детей
B20: и т.д.
A23: Всего по б-кам для детей | C23: =SUM(C15:C22) -> 0 | D23: =D16+D17+D18+D19+D20+D21+D22 -> 0 | E23: =E16+E17+E18+E19+E20+E21+E22 -> 0 | F23: =F16+F17+F18+F19+F20+F21+F22 -> 0 | G23: =G16+G17+G18+G19+G20+G21+G22 -> 0 | H23: =H16+H17+H18+H19+H20+H21+H22 -> 0 | I23: =I16+I17+I18+I19+I20+I21+I22 -> 0 | J23: =J16+J17+J18+J19+J20+J21+J22 -> 0 | K23: =K16+K17+K18+K19+K20+K21+K22 -> 0 | ... Q23: =Q16+Q17+Q18+Q19+Q20+Q21+Q22 -> 0
B24: Библиотека для юношества
B25: Сельские библиотеки
A26: 1 | B26: Название сельской б-ки №1
A27: 2 | B27: Название сельской б-ки №2
B28: и т.д.
A30: Всего по сельським библиотекам | C30: =C25+C26+C27+C28+C29 -> 0 | D30: =D25+D26+D27+D28+D29 -> 0 | E30: =E25+E26+E27+E28+E29 -> 0 | F30: =F25+F26+F27+F28+F29 -> 0 | G30: =G25+G26+G27+G28+G29 -> 0 | H30: =H25+H26+H27+H28+H29 -> 0 | I30: =I25+I26+I27+I28+I29 -> 0 | J30: =J25+J26+J27+J28+J29 -> 0 | ... Q30: =Q25+Q26+Q27+Q28+Q29 -> 0
A31: в т.ч. по сельським б-кам, находящихся в сельськой местности
A32: Всего по библиотекам города (района) | C32: =C14+C15+C23+C24+C30 -> 0 | D32: =D14+D15+D23+D24+D30 -> 0 | E32: =E14+E15+E23+E24+E30 -> 0 | F32: =F14+F15+F23+F24+F30 -> 0 | G32: =G14+G15+G23+G24+G30 -> 0 | H32: =H14+H15+H23+H24+H30 -> 0 | I32: =I14+I15+I23+I24+I30 -> 0 | J32: =J14+J15+J23+J24+J30 -> 0 | ... Q32: =Q14+Q15+Q23+Q24+Q30 -> 0

Sheet 23
A1: Таблица № 23
A2: № п/п | B2: Тип и название библиотеки | C2: Массовая работа | G2: Методическая работа
C3: Общее число массовых мероприят. | D3: в т.ч. | F3: клубы по интересам, любительск. объединения (число/участ)) | G3: Число выездов | I3: Число мероприятий по повышению квалификации
D4: публич. х-ра ( акции, флешмобы и пр.) | E4: для социально-незащищенных польз. | G4: всего | H4: из них комплексных | I4: всего | J4: в т. ч.
J5: семинары | K5: ШПО | L5: заседания клубов библ. работ. | M5: тренинги | N5: другие
B6: Городские, поселковые б-ки для взрослых
A7: 1 | B7: Центральна городская б-ка
A8: 2 | B8: Библиотека-филиал № 1
A9: 3 | B9: Библиотека-филиал № 2
B10: и т.д.
